BEGIN:VCALENDAR
VERSION:2.0
PRODID:-//Deutscher Canyoning Verein e.V. - ECPv6.15.20//NONSGML v1.0//EN
CALSCALE:GREGORIAN
METHOD:PUBLISH
X-ORIGINAL-URL:https://deutschercanyoningverein.de
X-WR-CALDESC:Veranstaltungen für Deutscher Canyoning Verein e.V.
REFRESH-INTERVAL;VALUE=DURATION:PT1H
X-Robots-Tag:noindex
X-PUBLISHED-TTL:PT1H
BEGIN:VTIMEZONE
TZID:Europe/Berlin
BEGIN:DAYLIGHT
TZOFFSETFROM:+0100
TZOFFSETTO:+0200
TZNAME:CEST
DTSTART:20250330T010000
END:DAYLIGHT
BEGIN:STANDARD
TZOFFSETFROM:+0200
TZOFFSETTO:+0100
TZNAME:CET
DTSTART:20251026T010000
END:STANDARD
BEGIN:DAYLIGHT
TZOFFSETFROM:+0100
TZOFFSETTO:+0200
TZNAME:CEST
DTSTART:20260329T010000
END:DAYLIGHT
BEGIN:STANDARD
TZOFFSETFROM:+0200
TZOFFSETTO:+0100
TZNAME:CET
DTSTART:20261025T010000
END:STANDARD
BEGIN:DAYLIGHT
TZOFFSETFROM:+0100
TZOFFSETTO:+0200
TZNAME:CEST
DTSTART:20270328T010000
END:DAYLIGHT
BEGIN:STANDARD
TZOFFSETFROM:+0200
TZOFFSETTO:+0100
TZNAME:CET
DTSTART:20271031T010000
END:STANDARD
END:VTIMEZONE
BEGIN:VEVENT
DTSTART;TZID=Europe/Berlin:20260904T080000
DTEND;TZID=Europe/Berlin:20260906T180000
DTSTAMP:20260421T200955
CREATED:20260125T193152Z
LAST-MODIFIED:20260204T181232Z
UID:3574-1788508800-1788717600@deutschercanyoningverein.de
SUMMARY:DCV Sommertreffen
DESCRIPTION:Servus liebe Canyoning Gemeinde\, \nDieses Jahr wollen wir in den Kanton St. Gallen\, rund um dem Walensee.\nWir werden als Basecamp den unten aufgeführen Campingplatz in Lichtenstein nutzen.\nEs handelt sich bei den Touren um Gemeinschaftstouren\, keine Führertouren!\nWir freuen uns auf Euch! \nAnbei alle erforderlichen Infos: \nOrganisatoren: Andi Sommer\, Nico Schneider \nWo: Kanton St. Gallen \nAnreise: Freitag morgens \nUnterkunft: Camping Mittagsspitze\nSägastrasse 29\nFL-9495 Triesen\nKoordinaten: 47.08642\, 9.52721 \nReservierung: macht bitte jeder für sich \nAnmeldung: Bis 21. August 2026 unter Andreas1.Sommer+DCV@gmail.com \nWer: Canyonisten mit vollständiger Canyoningausrüstung\, welche eigenständig Canyons gehen und Lust haben dabei zu sein. \nProgramm: Je nach Teilnehmerkönnen und -kondition\, Gruppengröße\, Wetter und Bedingungen vor Ort gehen wir zusammen bzw. in getrennten Gruppen Schluchten wie z.B. Cholschlagerbach\, Rombach\, Säntisthur oder diverse Canyons auf dem Hin- oder Rückweg.\nKommunikation: über eine DCV WhatsApp Gruppe\, während und kurz vor der Veranstaltung \nAngeleitete Touren: Nico Schneider und Andi Sommer \nLiteratur: DCV App Zugang über norbert.fischer@fischer-ab.de\nDCV Homepage\nhttps://www.opencanyon.org
URL:https://deutschercanyoningverein.de/event/dcv-sommertreffen/
LOCATION:Sägastrasse 29 FL-9495 Triesen\, Sägastrasse 29\, Triesen\, Lichtenstein\, 9495
CATEGORIES:Fun und Spaß
END:VEVENT
BEGIN:VEVENT
DTSTART;VALUE=DATE:20260912
DTEND;VALUE=DATE:20260914
DTSTAMP:20260421T200955
CREATED:20260201T074555Z
LAST-MODIFIED:20260217T165519Z
UID:3601-1789171200-1789343999@deutschercanyoningverein.de
SUMMARY:DCV Kurs Wildwasser 2026
DESCRIPTION:Was erwartet Dich? \n\nDu lernst Wassergefahren erkennen\nDu lernst Wurfsackwerfen\nSchwimmen im Wildwasser\n…\n\nUnd ganz viel Spaß. \nOrt: \nBasecamp ist der Campingplatz Grubhof bei Lofer(Österreich) \nCamping.grubhof@falkensteiner.com \nAnreise ist am 11.09.2026 ab 18:00 Uhr \nAufgrund von Wetterbedingungen kann ein kurzfristiger Ortswechsel möglich werden. \nBitte meldet Euch\, nach der Zusage zum Kurs\, selbst dort an!!!  \nBei der Anmeldung auf dem Camping bitte mitteilen\, dass Ihr zum DCV Kurs kommt. \nKosten: \nKurskosten          40\,00€ für Nichtmitglieder 70\,00€ \nErmäßigt               20\,00€ Schüler/-innen\, Student/-innen\, Azubis \nÜberweisung auf folgendes Konto unter Angabe von Name und Kurs \nDeutscher Canyoning Verein e.V.\nSparkasse München\nIBAN      DE 76 7015 0000 1002 7314 51\nBIC         SSKMDEMM \nDie Kosten für den Campingplatz sind nicht im Preis inbegriffen und werden vor Ort in Bar oder EC bezahlt. \nAnmeldung (bis 11.08.2026): \nKontakt:               Ingo Höhlich        +49 173 2690645 \nAnmeldung unter canyon@hoehlich.de mit der Angabe von vollständigem Namen\, Geburtsdatum\, Adresse und Handynummer. \nVoraussetzungen: \nKörperliche Fitness\, gute Schwimmkenntnisse\, Trittsicherheit\, Mindestalter 16 Jahre \nFür Jugendliche Teilnehmer gilt: \n\nEin Erziehungsberechtigter muss DCV-Mitglied sein\nEin Erziehungsberechtigter muss beim Kurs anwesend sein.\n\nDie Verantwortung kann an einen Anwesenden übertragen werden. \nAusrüstung: Ausrüstungsliste WW Kurs \nEine Unfallversicherung besteht nicht. Jeder Teilnehmer muss sich selbst versichern. Eine Haftung des Veranstalters wird ausgeschlossen. \n 
URL:https://deutschercanyoningverein.de/event/dcv-kurs-wildwasser-2026/
LOCATION:St. Martin bei Lofer\, Grubhof 39\, St. Martin bei Lofer\, 5092\, Austria
END:VEVENT
END:VCALENDAR