BEGIN:VCALENDAR
VERSION:2.0
PRODID:-//Deutscher Canyoning Verein e.V. - ECPv6.15.20//NONSGML v1.0//EN
CALSCALE:GREGORIAN
METHOD:PUBLISH
X-WR-CALNAME:Deutscher Canyoning Verein e.V.
X-ORIGINAL-URL:https://deutschercanyoningverein.de
X-WR-CALDESC:Veranstaltungen für Deutscher Canyoning Verein e.V.
REFRESH-INTERVAL;VALUE=DURATION:PT1H
X-Robots-Tag:noindex
X-PUBLISHED-TTL:PT1H
BEGIN:VTIMEZONE
TZID:Europe/Berlin
BEGIN:DAYLIGHT
TZOFFSETFROM:+0100
TZOFFSETTO:+0200
TZNAME:CEST
DTSTART:20250330T010000
END:DAYLIGHT
BEGIN:STANDARD
TZOFFSETFROM:+0200
TZOFFSETTO:+0100
TZNAME:CET
DTSTART:20251026T010000
END:STANDARD
BEGIN:DAYLIGHT
TZOFFSETFROM:+0100
TZOFFSETTO:+0200
TZNAME:CEST
DTSTART:20260329T010000
END:DAYLIGHT
BEGIN:STANDARD
TZOFFSETFROM:+0200
TZOFFSETTO:+0100
TZNAME:CET
DTSTART:20261025T010000
END:STANDARD
BEGIN:DAYLIGHT
TZOFFSETFROM:+0100
TZOFFSETTO:+0200
TZNAME:CEST
DTSTART:20270328T010000
END:DAYLIGHT
BEGIN:STANDARD
TZOFFSETFROM:+0200
TZOFFSETTO:+0100
TZNAME:CET
DTSTART:20271031T010000
END:STANDARD
END:VTIMEZONE
BEGIN:VEVENT
DTSTART;VALUE=DATE:20260808
DTEND;VALUE=DATE:20260815
DTSTAMP:20260421T185013
CREATED:20250821T095438Z
LAST-MODIFIED:20251202T083253Z
UID:3437-1786147200-1786751999@deutschercanyoningverein.de
SUMMARY:Familiencamp 2026 (DCV)
DESCRIPTION:Größte Veranstaltung des DCV. Seit vielen Jahren jährliche Tradition. Nicht nur für Familien\, sondern für alle mit Fokus auf gemütlichere Touren geeignet. \nAusrüstung: Eigene Ausrüstung erforderlich \nKosten: Kostenlos für DCV-Mitglieder \nAnsprechpartner: hubert.schedler(ät)gmx.de oder manuelaboehm09(ät)gmx.de \nOrt: \nDer Camping ist direkt am Lago Maggiore\, mit Seezugang\, ist ein eher kleinerer Camping. Die Canyons sind recht gut erreichbar\, so im Schnitt 15 bis 45min Anfahrt. Verbania oder Stresa am Lago ist ein paar Kilometer weg\, Restaurant und kleiner Laden am Camp\, Klettersteige in der Nähe. Also perfekt! \nhttps://www.campinglidotoce.de/index.html \nAnmeldung über hubert.schedler(ät)gmx.de oder manuelaboehm09(ät)gmx.de \nbis 15.01.2026 per mail. \n  \n 
URL:https://deutschercanyoningverein.de/event/kindercamp-2026-in-piemont/
LOCATION:Piemont\, Piemont\, Italy
END:VEVENT
BEGIN:VEVENT
DTSTART;VALUE=DATE:20260822
DTEND;VALUE=DATE:20260824
DTSTAMP:20260421T185013
CREATED:20260129T083712Z
LAST-MODIFIED:20260204T192041Z
UID:3594-1787356800-1787529599@deutschercanyoningverein.de
SUMMARY:DCV Kurs Rescue 2026
DESCRIPTION:Was erwartet Dich? \nVermittlung von Rettungstechniken in der Schlucht \n\nErstversorgung im Bach\nRettungsmethodik\nSeiltechnische Rettung\n\nAnreise ist 21.08.2026 am Abend. \nUm sich kennen zulernen findet am 11.08.2026 um 19 Uhr ein Onlinetermin statt\, in welchem es auch nochmal um die Vorbereitung\, Materialempfehlungen\, weitere Infos und Fragen geht. \nOrt: \nBasecamp ist der Campingplatz Grubhof bei Lofer(Österreich) \nCamping.grubhof@falkensteiner.com \nAufgrund von Wetterbedingungen kann ein kurzfristiger Ortswechsel möglich werden. \nBitte meldet Euch\, nach der Zusage zum Kurs\, selbst dort an \nBei der Anmeldung auf dem Camping bitte mitteilen\, dass Ihr zum DCV Kurs kommt. \nKosten: \nKurskosten          40\,00€ für Nichtmitglieder 70\,00€ \nErmäßigt               20\,00€ Schüler/-innen\, Student/-innen\, Azubis \nÜberweisung auf folgendes Konto unter Angabe von Name und Kurs \nDeutscher Canyoning Verein e.V.\nSparkasse München\nIBAN      DE 76 7015 0000 1002 7314 51\nBIC         SSKMDEMM \nDie Kosten für den Campingplatz sind nicht im Preis inbegriffen und werden vor Ort in Bar oder EC bezahlt. \nAnmeldung (bis 21.07.2026): \nKontakt:               Ingo Höhlich        +49 173 2690645 \nAnmeldung unter canyon@hoehlich.de mit der Angabe von vollständigem Namen\, Geburtsdatum\, Adresse und Handynummer. \nVoraussetzungen: \n\nKörperliche Fitness\ngute Schwimmkenntnisse\nTrittsicherheit\nMindestalter 16 Jahre\nKenntnisse der Kurse Basic und Advanced\nErfahrung im begehen von Schluchten\,\n\nFür Jugendliche Teilnehmer gilt: \n\nEin Erziehungsberechtigter muss DCV-Mitglied sein\nEin Erziehungsberechtigter muss beim Kurs anwesend sein.\n\nDie Verantwortung kann an einen Anwesenden übertragen werden. \nAusrüstung: Ausrüstungsliste Rescue \nEine Unfallversicherung besteht nicht. Jeder Teilnehmer muss sich selbst versichern. Eine Haftung des Veranstalters wird ausgeschlossen. \n 
URL:https://deutschercanyoningverein.de/event/dcv-kurs-rescue-2026/
LOCATION:St. Martin bei Lofer\, Grubhof 39\, St. Martin bei Lofer\, 5092\, Austria
END:VEVENT
END:VCALENDAR