BEGIN:VCALENDAR
VERSION:2.0
PRODID:-//Deutscher Canyoning Verein e.V. - ECPv6.15.20//NONSGML v1.0//EN
CALSCALE:GREGORIAN
METHOD:PUBLISH
X-ORIGINAL-URL:https://deutschercanyoningverein.de
X-WR-CALDESC:Veranstaltungen für Deutscher Canyoning Verein e.V.
REFRESH-INTERVAL;VALUE=DURATION:PT1H
X-Robots-Tag:noindex
X-PUBLISHED-TTL:PT1H
BEGIN:VTIMEZONE
TZID:Europe/Berlin
BEGIN:DAYLIGHT
TZOFFSETFROM:+0100
TZOFFSETTO:+0200
TZNAME:CEST
DTSTART:20250330T010000
END:DAYLIGHT
BEGIN:STANDARD
TZOFFSETFROM:+0200
TZOFFSETTO:+0100
TZNAME:CET
DTSTART:20251026T010000
END:STANDARD
BEGIN:DAYLIGHT
TZOFFSETFROM:+0100
TZOFFSETTO:+0200
TZNAME:CEST
DTSTART:20260329T010000
END:DAYLIGHT
BEGIN:STANDARD
TZOFFSETFROM:+0200
TZOFFSETTO:+0100
TZNAME:CET
DTSTART:20261025T010000
END:STANDARD
BEGIN:DAYLIGHT
TZOFFSETFROM:+0100
TZOFFSETTO:+0200
TZNAME:CEST
DTSTART:20270328T010000
END:DAYLIGHT
BEGIN:STANDARD
TZOFFSETFROM:+0200
TZOFFSETTO:+0100
TZNAME:CET
DTSTART:20271031T010000
END:STANDARD
END:VTIMEZONE
BEGIN:VEVENT
DTSTART;VALUE=DATE:20260613
DTEND;VALUE=DATE:20260621
DTSTAMP:20260421T154710
CREATED:20260302T174359Z
LAST-MODIFIED:20260302T174359Z
UID:3646-1781308800-1781999999@deutschercanyoningverein.de
SUMMARY:Frankreich: Gorges du Verdon
DESCRIPTION:In den Schluchten mit türkisfarbenem Wasser wollen wir Canyoning erleben. \nDie Region bietet abwechslungsreiche Routen\, die Naturfreunde und Abenteurer gleichermaßen faszinieren. \nWann: 13. bis 20.06. 2026 (Wir würden je nach Absprache jedoch schon einige Tage früher anreisen und / oder das Camp verlängern wollen. Dies hängt dann von uns Teilnehmern ab.) \nAusrüstung: Eigene Ausrüstung erforderlich \nAnsprechpartner: manuelaboehm09(ät)gmx.de \nOrt: Unser Basecamp planen wir auf dem Campingplatz „Huttopia Gorges du Verdon“ Nähe Castellane am Ufer des Verdon mit einem wunderschönen Schwimmbad und eigenem Zugang zum Strand… \nCampingplatz Gorges du Verdon (am Flussufer) – Huttopia \n(Wir haben bis dato noch nicht reserviert.) \nVoraussetzungen: \nKörperliche Fitness\, gute Schwimmkenntnisse\, Trittsicherheit. Erfahrung im Canyon. \nAnmeldung manuelaboehm09(ät)gmx.de \nbis 30.04.2026 per mail. \nDies ist eine private Veranstaltung. Das Camp beinhaltet keine geführten Touren. Das Begehen der Schluchten erfolgt eigenverantwortlich. \nEs wird keine Haftung für Personen- oder Sachschäden übernommen.  \n  \n 
URL:https://deutschercanyoningverein.de/event/frankreich-gorges-du-verdon/
LOCATION:Gorges du Verdon\, 9196 Route des Gorges du Verdon\, 04120 CASTELLANE\, France
END:VEVENT
END:VCALENDAR